BEGIN:VCALENDAR
VERSION:2.0
PRODID:-//SAT-7 UK - ECPv6.15.20//NONSGML v1.0//EN
CALSCALE:GREGORIAN
METHOD:PUBLISH
X-WR-CALNAME:SAT-7 UK
X-ORIGINAL-URL:https://www.sat7uk.org
X-WR-CALDESC:Events for SAT-7 UK
REFRESH-INTERVAL;VALUE=DURATION:PT1H
X-Robots-Tag:noindex
X-PUBLISHED-TTL:PT1H
BEGIN:VTIMEZONE
TZID:Europe/London
BEGIN:DAYLIGHT
TZOFFSETFROM:+0000
TZOFFSETTO:+0100
TZNAME:BST
DTSTART:20250330T010000
END:DAYLIGHT
BEGIN:STANDARD
TZOFFSETFROM:+0100
TZOFFSETTO:+0000
TZNAME:GMT
DTSTART:20251026T010000
END:STANDARD
BEGIN:DAYLIGHT
TZOFFSETFROM:+0000
TZOFFSETTO:+0100
TZNAME:BST
DTSTART:20260329T010000
END:DAYLIGHT
BEGIN:STANDARD
TZOFFSETFROM:+0100
TZOFFSETTO:+0000
TZNAME:GMT
DTSTART:20261025T010000
END:STANDARD
BEGIN:DAYLIGHT
TZOFFSETFROM:+0000
TZOFFSETTO:+0100
TZNAME:BST
DTSTART:20270328T010000
END:DAYLIGHT
BEGIN:STANDARD
TZOFFSETFROM:+0100
TZOFFSETTO:+0000
TZNAME:GMT
DTSTART:20271031T010000
END:STANDARD
END:VTIMEZONE
BEGIN:VEVENT
DTSTART;VALUE=DATE:20260304
DTEND;VALUE=DATE:20260305
DTSTAMP:20260423T123511
CREATED:20260120T154418Z
LAST-MODIFIED:20260120T154709Z
UID:45186-1772582400-1772668799@www.sat7uk.org
SUMMARY:Vision Day for Church Leaders
DESCRIPTION:We are hosting a number of Vision Days at our Persian TV studio in west London\, to immerse\, inform and inspire leaders with stories of faith from the Church in the Middle East and North Africa.
URL:https://www.sat7uk.org/event/vision-day-for-church-leaders-4-march-2026/
END:VEVENT
BEGIN:VEVENT
DTSTART;TZID=Europe/London:20260128T200000
DTEND;TZID=Europe/London:20260128T210000
DTSTAMP:20260423T123511
CREATED:20260120T154936Z
LAST-MODIFIED:20260123T102854Z
UID:45194-1769630400-1769634000@www.sat7uk.org
SUMMARY:Prayer for Iran online event
DESCRIPTION:Please join us to pray for Iran next Wednesday\, 28 January\, at 8pm. We will share some updates and videos from our Persian channel\, and carve out plenty of time to pray in groups for our Iranian brothers and sisters. \nFor more information and to sign up please click here.
URL:https://www.sat7uk.org/event/prayer-for-iran-online-event/
END:VEVENT
END:VCALENDAR